BEGIN:VCALENDAR
VERSION:2.0
PRODID:-//hacksw/handcal//NONSGML v1.0//EN
BEGIN:VEVENT
SUMMARY:Sorties du mardi et du jeudi
UID:ee2d62f0-8385-4308-b353-ca3bba5ee888
DTSTART:20260415T220000Z
DTEND:20260416T220000Z
LOCATION:Localisation pomme d'amour  Lambersart
CATEGORIES:Sportif
STATUS:
DESCRIPTION:<p>Rendez vous a 13h35 pour le groupe Veloce</p>
 
 <p> 
                       13h40 pour le groupe
 Mezzo</p>
 
 <p>                        13h45 pour le
 groupe
 Moderato </p>
 
 <p>                       
 14h00 pour le groupe Dolce vita</p>
URL;VALUE=URI:https://www.cyclo-club-lambersart.com/evenements/2026/04/16/sorties-du-mardi-et-du-jeudi-2435208
END:VEVENT
END:VCALENDAR
