BEGIN:VCALENDAR
VERSION:2.0
PRODID:-//hacksw/handcal//NONSGML v1.0//EN
BEGIN:VEVENT
SUMMARY:Brevet Gilles d'Haene, Houplines
UID:a5900d09-6d0e-43cf-b985-66df94e7bc8a
DTSTART:20260405T220000Z
DTEND:20260406T220000Z
LOCATION:Localisation complexe sportif andre claeys  houplines
CATEGORIES:Sportif
STATUS:
DESCRIPTION:<p>distances                   lambersart   
       sur site</p>
 
 <p>78               
  ------------------07:15----------------08:00</p>
 
 <p>39 & 54   
      ------------------07:30----------------08:15</p>
 
 <p>26   
            
  ------------------08:30----------------09:15</p>
 
 <p>Complexe
 Sportif Andre CLAEYS « Salle Amandine HENRY » Entree Rue Thiers a
 HOUPLINES</p>
 
 <p>Route : 26kms D+70, 39kms D+215, 54kms D+320,
 78kms D+567,</p>
 
 <p>VTT : 24kms D+150, 44kms D+400, 54kms D+600 en
 GPX, 64kms D+900 en GPX</p>
 
 <p>GRAVEL : 42kms D+269, 64kms D+546,
 80km D+668 L’ensemble en GPX</p>
 
 <p>Les parcours sont fleches ou
 en GPX.</p>
 
 <p>Marche : 8, 13 km</p>
 
 <p>Depart de 7 h 30 a 10
 h</p>
 
 <p>Parking Velo Securise Gratuit – Cafe au Depart -
 Ravitaillements <b>pas de gobelets</b> (apporter gourde ou eco-cup)
 - Sandwich/Boissons a l’Arrivee</p>
 
 <p>Tombola
 gratuite</p>
 
 <p>Inscription : Cyclo -Marche 3,5 € - VTT 5 €
 -Gravel 4 €</p>
 
 <p>Inscriptions directement sur le site <a
 href="https://www.helloasso.com/associations/union-cyclotouriste-houplinoise/evenements/randonnee-gilles-d-haene-1">HelloAsso</a> ou
 Unioncyclotouristehouplinoise.e-monsite.com, entre le 28 fevrier et
 le 3 avril 2026, avec l’inscription sur HelloAsso, vous avez droit
 a une reduction de 50 centimes ou sur place.</p>
 
 <p>Sans
 competition, ni classement, chaque cyclo, VTT et Marcheur doivent
 respecter le code de la route et les consignes
 sanitaires</p>
 
 <p>Pour tous renseignements :  06 38 64 41 00 ou
 par email : uchhouplines@orange.fr</p>
 
 <p> </p>
 
 <ul
 data-role="contact">
 	<li data-role="user">Michel HUCK tel : 06 38 64
 41 00</li>
 	<li> </li>
 	<li data-role="link"> <a
 href="http://www.unioncyclotouristehouplinoise.e-monsite.com/">http://www.unioncyclotouristehouplinoise.e-monsite.com</a></li>
 </ul>
 
 <address><strong>COMPLEXE
 SPORTIF ANDRES CLAEYS-SALLE AMADINE HEN</strong> Rue Thiers, 59116
 HOUPLINES NORD FRANCE</address>
URL;VALUE=URI:https://www.cyclo-club-lambersart.com/evenements/2026/04/06/brevet-gilles-dhaene-houplines-2435227
END:VEVENT
END:VCALENDAR
