BEGIN:VCALENDAR
VERSION:2.0
PRODID:-//hacksw/handcal//NONSGML v1.0//EN
BEGIN:VEVENT
SUMMARY:49eme randonnee cycliste et pedestre de Wavrin
UID:23e325ad-4a80-4b69-a9d2-42203dffb087
DTSTART:20260404T220000Z
DTEND:20260405T220000Z
LOCATION:Localisation salle polyvalente rue Roger Salengro  wavrin
CATEGORIES:Sportif
STATUS:
DESCRIPTION:<p>R-V : Salle Polyvalente rue Roger Salengro</p><p>Route
 : 20-40-60-80-100kms (3.5€ + 1€ non licencies)</p><p>VTT :
 15-25-35-45-55kms (4€ + 1€ non licencies</p><p>)Gravel : 60kms
 (Tarif idem VTT)</p><p>Marche : 7-14-18kms (3€)</p><p>De 7h30 a
 10h00 - cloture a 13h00</p><p>Accueil cafe et collation au
 retour</p><p>-Ravitaillement sur tous les parcours(pas de gobelets
 aux ravitaillements par respect pour l'environnement)</p><p>-Lavage
 VTT</p><p>-Gratuit-de 18 ans</p><p>Inscriptions sur place ou sur
 internet (reduction 0.50€ par internet : QRcode sur
 Flyer</p><p>Distance et departs indicatifs :</p><p>           
        lambersart  sur     site</p><p>100 km-----07:00
 ---------------07:45</p><p>80  km----- 07:15
 ---------------08:00</p><p>60 km-------07:15
 ---------------08:00</p><p>40 km-------08:15
 ---------------09:00</p><p>20 km-------08:30
 ---------------09:15</p><p><br></p><p><a
 href="https://www.cyclo-club-wavrin.fr/evenements/2026/04/05/notre-49eme-randonnee-2140433"><b
 style="background-color: rgb(33, 150, 243);">Les parcours
 </b></a><br></p>
URL;VALUE=URI:https://www.cyclo-club-lambersart.com/evenements/2026/04/05/49eme-randonnee-cycliste-et-pedestre-de-wavrin-2435225
END:VEVENT
END:VCALENDAR
